{"text_format":"1","workbook":"xlsx","n_sheets":5,"sheets":["メニュー","ビンゴゲーム","数字発表Ａ","数字発表Ｂ","数字入力"],"not_rendered":{"charts":0,"images":6,"macros":1,"external_links":0,"defined_names":1,"comments":0,"pivot_tables":0},"unopened":[],"bounds":{"document_bytes":16777216,"sheet_cells":100000,"rows_first":2000,"rows_last":500,"rows_between":2000,"halvings":0,"cell_chars":16384,"cell_head_chars":4096},"cells_cut":0,"cells_raw":0,"read":"whole","date_system":"1900"}

{"sheet":"メニュー","index":0,"n_rows":0,"n_cols":0,"rows_kept":0,"cut":false,"hidden":false,"merged":[]}

{"sheet":"ビンゴゲーム","index":1,"n_rows":13,"n_cols":16,"rows_kept":13,"cut":false,"hidden":false,"merged":[]}
["B","I","N","G","O",null,"B","I","N","G","O"]
[{"$f":"数字入力!$C3","v":14},{"$f":"数字入力!$F3","v":26},{"$f":"数字入力!$I3","v":36},{"$f":"数字入力!$L3","v":47},{"$f":"数字入力!$O3","v":66},null,{"$f":"数字入力!$C18","v":9},{"$f":"数字入力!$F18","v":16},{"$f":"数字入力!$I18","v":43},{"$f":"数字入力!$L18","v":49},{"$f":"数字入力!$O18","v":70},null,"人数",9,"人"]
[{"$f":"数字入力!$C4","v":4},{"$f":"数字入力!$F4","v":23},{"$f":"数字入力!$I4","v":45},{"$f":"数字入力!$L4","v":57},{"$f":"数字入力!$O4","v":65},null,{"$f":"数字入力!$C19","v":10},{"$f":"数字入力!$F19","v":30},{"$f":"数字入力!$I19","v":32},{"$f":"数字入力!$L19","v":59},{"$f":"数字入力!$O19","v":74},null,"印刷\n枚数",{"$f":"IF(MOD(N2,4)>0,INT(N2/4)+1,INT(N2/4))","v":3},"枚"]
[{"$f":"数字入力!$C5","v":10},{"$f":"数字入力!$F5","v":25},"Free",{"$f":"数字入力!$L5","v":49},{"$f":"数字入力!$O5","v":67},null,{"$f":"数字入力!$C20","v":4},{"$f":"数字入力!$F20","v":20},"Free",{"$f":"数字入力!$L20","v":55},{"$f":"数字入力!$O20","v":63}]
[{"$f":"数字入力!$C6","v":9},{"$f":"数字入力!$F6","v":17},{"$f":"数字入力!$I6","v":37},{"$f":"数字入力!$L6","v":53},{"$f":"数字入力!$O6","v":72},null,{"$f":"数字入力!$C21","v":3},{"$f":"数字入力!$F21","v":25},{"$f":"数字入力!$I21","v":42},{"$f":"数字入力!$L21","v":56},{"$f":"数字入力!$O21","v":64}]
[{"$f":"数字入力!$C7","v":8},{"$f":"数字入力!$F7","v":19},{"$f":"数字入力!$I7","v":39},{"$f":"数字入力!$L7","v":60},{"$f":"数字入力!$O7","v":64},null,{"$f":"数字入力!$C22","v":13},{"$f":"数字入力!$F22","v":17},{"$f":"数字入力!$I22","v":41},{"$f":"数字入力!$L22","v":53},{"$f":"数字入力!$O22","v":73}]
[]
["B","I","N","G","O",null,"B","I","N","G","O"]
[{"$f":"数字入力!$C33","v":8},{"$f":"数字入力!$F33","v":22},{"$f":"数字入力!$I33","v":37},{"$f":"数字入力!$L33","v":46},{"$f":"数字入力!$O33","v":64},null,{"$f":"数字入力!$C48","v":3},{"$f":"数字入力!$F48","v":22},{"$f":"数字入力!$I48","v":34},{"$f":"数字入力!$L48","v":56},{"$f":"数字入力!$O48","v":75}]
[{"$f":"数字入力!$C34","v":4},{"$f":"数字入力!$F34","v":24},{"$f":"数字入力!$I34","v":45},{"$f":"数字入力!$L34","v":52},{"$f":"数字入力!$O34","v":71},null,{"$f":"数字入力!$C49","v":8},{"$f":"数字入力!$F49","v":27},{"$f":"数字入力!$I49","v":33},{"$f":"数字入力!$L49","v":55},{"$f":"数字入力!$O49","v":66}]
[{"$f":"数字入力!$C35","v":3},{"$f":"数字入力!$F35","v":18},"Free",{"$f":"数字入力!$L35","v":49},{"$f":"数字入力!$O35","v":70},null,{"$f":"数字入力!$C50","v":4},{"$f":"数字入力!$F50","v":21},"Free",{"$f":"数字入力!$L50","v":54},{"$f":"数字入力!$O50","v":61}]
[{"$f":"数字入力!$C36","v":5},{"$f":"数字入力!$F36","v":16},{"$f":"数字入力!$I36","v":40},{"$f":"数字入力!$L36","v":47},{"$f":"数字入力!$O36","v":69},null,{"$f":"数字入力!$C51","v":7},{"$f":"数字入力!$F51","v":30},{"$f":"数字入力!$I51","v":41},{"$f":"数字入力!$L51","v":59},{"$f":"数字入力!$O51","v":68}]
[{"$f":"数字入力!$C37","v":1},{"$f":"数字入力!$F37","v":26},{"$f":"数字入力!$I37","v":42},{"$f":"数字入力!$L37","v":55},{"$f":"数字入力!$O37","v":66},null,{"$f":"数字入力!$C52","v":6},{"$f":"数字入力!$F52","v":18},{"$f":"数字入力!$I52","v":36},{"$f":"数字入力!$L52","v":47},{"$f":"数字入力!$O52","v":69},null,null,null,null,2]

{"sheet":"数字発表Ａ","index":2,"n_rows":20,"n_cols":11,"rows_kept":20,"cut":false,"hidden":false,"merged":[[2,1,5,1],[10,1,16,1]]}
[null,null,null,59,{"$f":"COUNT(D1:D75)","v":10},"回目",null,1,21,41,61]
[null,null,null,47,null,null,null,2,22,42,62]
[null,9,null,73,null,null,null,3,23,43,63]
[null,null,null,19,null,null,null,4,24,44,64]
[null,null,null,34,null,null,null,5,25,45,65]
[null,null,null,70,null,null,null,6,26,46,66]
[null,null,null,64,null,null,null,7,27,47,67]
[null,null,null,71,null,null,null,8,28,48,68]
[null,null,null,30,null,null,null,9,29,49,69]
[null,null,null,9,null,null,null,10,30,50,70]
[null,"最後の方になると、ボタンを押しても数字が変わらなくなることがあります。その場合は、何回もトライしてください。",null,null,null,null,null,11,31,51,71]
[null,null,null,null,null,null,null,12,32,52,72]
[null,null,null,null,null,null,null,13,33,53,73]
[null,null,null,null,null,null,null,14,34,54,74]
[null,null,null,null,null,null,null,15,35,55,75]
[null,null,null,null,null,null,null,16,36,56]
[null,null,null,null,null,null,null,17,37,57]
[null,null,null,null,null,null,null,18,38,58]
[null,null,null,null,null,null,null,19,39,59]
[null,null,null,null,null,null,null,20,40,60]

{"sheet":"数字発表Ｂ","index":3,"n_rows":75,"n_cols":6,"rows_kept":75,"cut":false,"hidden":false,"merged":[[2,1,5,1]]}
[null,null,null,null,798779,{"$f":"RANK(E1,E:E)","v":19}]
[null,null,null,null,961976,{"$f":"RANK(E2,E:E)","v":3}]
[null,19,null,null,973830,2]
[null,null,null,null,121931,66]
[null,null,null,null,66270,70]
[null,null,null,null,379052,47]
[null,null,null,null,285567,55]
[null,1,"回目",null,720250,26]
[null,null,null,null,199121,61]
[null,null,null,null,88443,67]
[null,null,null,null,344194,51]
[null,null,null,null,260156,58]
[null,null,null,null,569003,34]
[null,null,null,null,695584,27]
[null,null,null,null,351774,49]
[null,null,null,null,469055,41]
[null,null,null,null,856850,15]
[null,null,null,null,734424,25]
[null,null,null,null,799987,18]
[null,null,null,null,655570,30]
[null,null,null,null,682706,28]
[null,null,null,null,884764,10]
[null,null,null,null,503992,40]
[null,null,null,null,914245,6]
[null,null,null,null,736390,24]
[null,null,null,null,905541,7]
[null,null,null,null,232148,59]
[null,null,null,null,823683,17]
[null,null,null,null,661296,29]
[null,null,null,null,743392,23]
[null,null,null,null,848968,16]
[null,null,null,null,540398,36]
[null,null,null,null,125694,65]
[null,null,null,null,215399,60]
[null,null,null,null,647109,32]
[null,null,null,null,356737,48]
[null,null,null,null,391400,46]
[null,null,null,null,275398,56]
[null,null,null,null,297423,54]
[null,null,null,null,25618,74]
[null,null,null,null,443126,42]
[null,null,null,null,19498,75]
[null,null,null,null,193374,62]
[null,null,null,null,794217,20]
[null,null,null,null,527310,37]
[null,null,null,null,31124,73]
[null,null,null,null,436865,44]
[null,null,null,null,921838,5]
[null,null,null,null,891018,9]
[null,null,null,null,550084,35]
[null,null,null,null,861304,14]
[null,null,null,null,570755,33]
[null,null,null,null,47217,72]
[null,null,null,null,88381,68]
[null,null,null,null,270245,57]
[null,null,null,null,409591,45]
[null,null,null,null,878227,12]
[null,null,null,null,72647,69]
[null,null,null,null,770117,22]
[null,null,null,null,794018,21]
[null,null,null,null,514218,38]
[null,null,null,null,185425,63]
[null,null,null,null,986955,1]
[null,null,null,null,954130,4]
[null,null,null,null,55085,71]
[null,null,null,null,896783,{"$f":"RANK(E66,E:E)","v":8}]
[null,null,null,null,168850,64]
[null,null,null,null,336051,52]
[null,null,null,null,441364,43]
[null,null,null,null,504507,39]
[null,null,null,null,882146,11]
[null,null,null,null,861898,13]
[null,null,null,null,653709,31]
[null,null,null,null,313737,53]
[null,null,null,null,344852,50]

{"sheet":"数字入力","index":4,"n_rows":77,"n_cols":15,"rows_kept":77,"cut":false,"hidden":false,"merged":[[0,0,0,2],[0,3,0,5],[0,6,0,8],[0,9,0,11],[0,12,0,14]]}
["B",null,null,"I",null,null,"N",null,null,"G",null,null,"O"]
["NO","ランダム数字","順位","NO","ランダム数字","順位","NO","ランダム数字","順位","NO","ランダム数字","順位","NO","ランダム数字","順位"]
[1,449953,{"$f":"IF(B3=\"\",\"\",RANK(B3,B$3:B$17))","v":14},16,16159517,{"$f":"IF(E3=\"\",\"\",RANK(E3,E$3:E$17)+15)","v":26},31,83980892,{"$f":"IF(H3=\"\",\"\",RANK(H3,H$3:H$17)+30)","v":36},46,86572624,{"$f":"IF(K3=\"\",\"\",RANK(K3,K$3:K$17)+45)","v":47},61,60086569,{"$f":"IF(N3=\"\",\"\",RANK(N3,N$3:N$17)+60)","v":66}]
[2,89221751,{"$f":"IF(B4=\"\",\"\",RANK(B4,B$3:B$17))","v":4},17,34068961,{"$f":"IF(E4=\"\",\"\",RANK(E4,E$3:E$17)+15)","v":23},32,25887128,{"$f":"IF(H4=\"\",\"\",RANK(H4,H$3:H$17)+30)","v":45},47,29685646,{"$f":"IF(K4=\"\",\"\",RANK(K4,K$3:K$17)+45)","v":57},62,60086687,{"$f":"IF(N4=\"\",\"\",RANK(N4,N$3:N$17)+60)","v":65}]
[3,41885650,10,18,27264237,25,33,90545752,33,48,83341968,49,63,59923020,67]
[4,46327340,9,19,75963133,17,34,83290056,37,49,49421245,53,64,42453731,72]
[5,53220743,8,20,70382334,19,35,50912614,39,50,1673404,60,65,70035136,64]
[6,94217956,3,21,93273002,16,36,29323486,44,51,2535141,59,66,5324662,75]
[7,15865669,13,22,66853213,20,37,32756505,42,52,9454767,58,67,81571344,62]
[8,19395558,12,23,5440687,30,38,35353048,41,53,51301710,52,68,42755582,71]
[9,60036991,7,24,13065071,28,39,74908224,38,54,31289972,56,69,43552328,70]
[10,83442633,5,25,12392833,29,40,98940563,32,55,84627686,48,70,45217880,69]
[11,98035971,2,26,71101188,18,41,32113858,43,56,88855911,46,71,85419042,61]
[12,38082333,11,27,30311003,24,42,38695407,40,57,42150411,54,72,25055718,73]
[13,79035928,6,28,50069372,22,43,99835581,31,58,69443858,51,73,51833806,68]
[14,98528879,1,29,52295844,21,44,84962375,35,59,73956211,50,74,14296020,74]
[15,436664,15,30,13969496,27,45,89662884,34,60,34537126,55,75,70489254,63]
[1,41097056,{"$f":"IF(B18=\"\",\"\",RANK(B18,B$18:B$32))","v":9},16,94279411,{"$f":"IF(E18=\"\",\"\",RANK(E18,E$18:E$32)+15)","v":16},31,18862593,{"$f":"IF(H18=\"\",\"\",RANK(H18,H$18:H$32)+30)","v":43},46,51005527,{"$f":"IF(K18=\"\",\"\",RANK(K18,K$18:K$32)+45)","v":49},61,38261758,{"$f":"IF(N18=\"\",\"\",RANK(N18,N$18:N$32)+60)","v":70}]
[2,37979151,{"$f":"IF(B19=\"\",\"\",RANK(B19,B$18:B$32))","v":10},17,9465567,{"$f":"IF(E19=\"\",\"\",RANK(E19,E$18:E$32)+15)","v":30},32,88478387,{"$f":"IF(H19=\"\",\"\",RANK(H19,H$18:H$32)+30)","v":32},47,11357180,59,62,12805608,74]
[3,69848687,4,18,69654815,20,33,96988267,31,48,30332104,55,63,88148827,63]
[4,78683690,3,19,46200539,25,34,19762501,42,49,25377776,56,64,85796331,64]
[5,22212916,13,20,91668287,17,35,19878502,41,50,46077513,53,65,25744608,73]
[6,56717888,7,21,87537695,19,36,34481899,37,51,58781425,48,66,41363100,68]
[7,23593930,12,22,66906171,21,37,36832317,35,52,49532856,50,67,39099235,69]
[8,68515313,5,23,62491516,22,38,16379815,44,53,49013721,52,68,8641357,75]
[9,9043200,15,24,37746218,26,39,44687178,34,54,4571144,60,69,36082647,71]
[10,99505865,1,25,35285073,27,40,26999077,38,55,49093910,51,70,92716724,62]
[11,61693587,6,26,15748621,28,41,21556313,40,56,17100751,58,71,95670303,61]
[12,36867118,11,27,90383785,18,42,66246982,33,57,39184700,54,72,80693587,66]
[13,22056000,14,28,14988937,29,43,36024786,36,58,83361975,46,73,26399780,72]
[14,99344668,2,29,62292578,23,44,26062827,39,59,80535596,47,74,62335568,67]
[15,47426910,8,30,49228217,24,45,7015051,45,60,22498735,57,75,85462054,65]
[1,46520997,{"$f":"IF(B33=\"\",\"\",RANK(B33,B$33:B$47))","v":8},16,70150917,{"$f":"IF(E33=\"\",\"\",RANK(E33,E$33:E$47)+15)","v":22},31,65658791,{"$f":"IF(H33=\"\",\"\",RANK(H33,H$33:H$47)+30)","v":37},46,86942127,{"$f":"IF(K33=\"\",\"\",RANK(K33,K$33:K$47)+45)","v":46},61,55715009,{"$f":"IF(N33=\"\",\"\",RANK(N33,N$33:N$47)+60)","v":64}]
[2,68058047,{"$f":"IF(B34=\"\",\"\",RANK(B34,B$33:B$47))","v":4},17,39717781,{"$f":"IF(E34=\"\",\"\",RANK(E34,E$33:E$47)+15)","v":24},32,6427925,45,47,29460466,52,62,31170788,71]
[3,84442636,3,18,83793956,18,33,82462431,32,48,45509150,49,63,34824466,70]
[4,66050953,5,19,93032867,16,34,37062440,40,49,85755673,47,64,35988403,69]
[5,94407823,1,20,26095561,26,35,24489077,42,50,23353526,55,65,50846624,66]
[6,26845192,12,21,14337767,28,36,91049736,31,51,37394037,50,66,82298065,62]
[7,17252740,13,22,88179296,17,37,81365059,33,52,23989851,54,67,59774648,63]
[8,7718956,14,23,32678931,25,38,71744799,34,53,30011678,51,68,44735247,68]
[9,2989477,15,24,2106027,30,39,15214772,44,54,3328487,59,69,23774075,72]
[10,64868611,6,25,7108542,29,40,22778247,43,55,12869580,57,70,19546756,73]
[11,35081288,10,26,14599393,27,41,34256296,41,56,24622200,53,71,88691934,61]
[12,47605801,7,27,71358346,21,42,67543064,36,57,7005056,58,72,7486849,74]
[13,32763774,11,28,75980781,20,43,42641271,39,58,78775152,48,73,7430699,75]
[14,86832828,2,29,81483493,19,44,68479433,35,59,784119,60,74,48694155,67]
[15,39823958,9,30,53411897,23,45,56030536,38,60,23148187,56,75,54723545,65]
[1,87947541,{"$f":"IF(B48=\"\",\"\",RANK(B48,B$48:B$62))","v":3},16,58005231,{"$f":"IF(E48=\"\",\"\",RANK(E48,E$48:E$62)+15)","v":22},31,72552244,{"$f":"IF(H48=\"\",\"\",RANK(H48,H$48:H$62)+30)","v":34},46,45624011,{"$f":"IF(K48=\"\",\"\",RANK(K48,K$48:K$62)+45)","v":56},61,2240953,{"$f":"IF(N48=\"\",\"\",RANK(N48,N$48:N$62)+60)","v":75}]
[2,47873096,{"$f":"IF(B49=\"\",\"\",RANK(B49,B$48:B$62))","v":8},17,20814676,{"$f":"IF(E49=\"\",\"\",RANK(E49,E$48:E$62)+15)","v":27},32,83472168,33,47,49269154,55,62,55230508,66]
[3,82156120,4,18,71313379,21,33,88396017,31,48,49413874,54,63,86360132,61]
[4,58326046,7,19,9742808,30,34,45588175,41,49,9407270,59,64,42712594,68]
[5,73541790,6,20,84517574,18,35,63561780,36,50,89083983,47,65,41215038,69]
[6,77190828,5,21,14764113,28,36,43429987,42,51,74343986,51,66,62829807,63]
[7,12849459,14,22,48490046,23,37,72092381,35,52,90100362,46,67,58997907,65]
[8,6863818,15,23,33522575,25,38,12197176,45,53,75095560,50,68,84346684,62]
[9,26637558,13,24,46161884,24,39,87925613,32,54,7712354,60,69,37671725,71]
[10,39844456,10,25,88823624,17,40,55568924,39,55,65399311,53,70,31434926,73]
[11,39760609,11,26,75602996,20,41,59172048,38,56,75520198,49,71,37754655,70]
[12,90501449,2,27,22373646,26,42,61834494,37,57,79810401,48,72,43054173,67]
[13,97216353,1,28,11477318,29,43,51341567,40,58,70427957,52,73,31577960,72]
[14,31407049,12,29,91709572,16,44,34153441,43,59,12565121,58,74,59666108,64]
[15,43532590,9,30,80635297,19,45,15044974,44,60,20892260,57,75,19636140,74]
[1,98095709,{"$f":"IF(B63=\"\",\"\",RANK(B63,B$63:B$77))","v":1},16,3781776,{"$f":"IF(E63=\"\",\"\",RANK(E63,E$63:E$77)+15)","v":28},31,12314334,{"$f":"IF(H63=\"\",\"\",RANK(H63,H$63:H$77)+30)","v":42},46,31873517,{"$f":"IF(K63=\"\",\"\",RANK(K63,K$63:K$77)+45)","v":57},61,46520359,{"$f":"IF(N63=\"\",\"\",RANK(N63,N$63:N$77)+60)","v":70}]
[2,83907204,{"$f":"IF(B64=\"\",\"\",RANK(B64,B$63:B$77))","v":4},17,7580239,{"$f":"IF(E64=\"\",\"\",RANK(E64,E$63:E$77)+15)","v":27},32,68427747,34,47,36683105,55,62,65979078,67]
[3,46191501,9,18,635819,30,33,84728296,32,48,60542259,53,63,81950903,62]
[4,36555379,11,19,45438288,21,34,88561735,31,49,63462053,51,64,67998549,66]
[5,44997320,10,20,12189366,26,35,7131482,44,50,72637877,50,65,44234006,71]
[6,89231140,3,21,32208570,23,36,1278074,45,51,554935,60,66,21257364,74]
[7,48520666,7,22,32826052,22,37,46169508,39,52,5953399,59,67,47868066,69]
[8,57169037,6,23,3117602,29,38,60409433,35,53,85184889,48,68,57555989,68]
[9,4519257,15,24,13118898,25,39,30418985,41,54,40215406,54,69,38337587,72]
[10,95439260,2,25,58309878,20,40,8536637,43,55,32180654,56,70,70069770,63]
[11,28060878,12,26,27113821,24,41,59659222,36,56,8442603,58,71,31156964,73]
[12,80679494,5,27,79434030,18,42,81594735,33,57,61265327,52,72,6746185,75]
[13,18143668,13,28,76479678,19,43,30724444,40,58,77085538,49,73,69749914,64]
[14,47475887,8,29,88179568,16,44,58564810,37,59,96988348,46,74,68234037,65]
[15,4705251,14,30,86555118,17,45,51054305,38,60,87650572,47,75,87390685,61]